BEGIN:VCALENDAR
VERSION:2.0
PRODID:-//Blues Backroads - ECPv6.15.20//NONSGML v1.0//EN
CALSCALE:GREGORIAN
METHOD:PUBLISH
X-ORIGINAL-URL:https://bluesbackroads.com
X-WR-CALDESC:Events for Blues Backroads
REFRESH-INTERVAL;VALUE=DURATION:PT1H
X-Robots-Tag:noindex
X-PUBLISHED-TTL:PT1H
BEGIN:VTIMEZONE
TZID:America/Chicago
BEGIN:DAYLIGHT
TZOFFSETFROM:-0600
TZOFFSETTO:-0500
TZNAME:CDT
DTSTART:20240310T080000
END:DAYLIGHT
BEGIN:STANDARD
TZOFFSETFROM:-0500
TZOFFSETTO:-0600
TZNAME:CST
DTSTART:20241103T070000
END:STANDARD
BEGIN:DAYLIGHT
TZOFFSETFROM:-0600
TZOFFSETTO:-0500
TZNAME:CDT
DTSTART:20250309T080000
END:DAYLIGHT
BEGIN:STANDARD
TZOFFSETFROM:-0500
TZOFFSETTO:-0600
TZNAME:CST
DTSTART:20251102T070000
END:STANDARD
BEGIN:DAYLIGHT
TZOFFSETFROM:-0600
TZOFFSETTO:-0500
TZNAME:CDT
DTSTART:20260308T080000
END:DAYLIGHT
BEGIN:STANDARD
TZOFFSETFROM:-0500
TZOFFSETTO:-0600
TZNAME:CST
DTSTART:20261101T070000
END:STANDARD
END:VTIMEZONE
BEGIN:VEVENT
DTSTART;TZID=America/Chicago:20251220T130000
DTEND;TZID=America/Chicago:20251220T160000
DTSTAMP:20260420T062817
CREATED:20251103T173545Z
LAST-MODIFIED:20251103T173545Z
UID:10000067-1766235600-1766246400@bluesbackroads.com
SUMMARY:Santa at the Germantown Depot
DESCRIPTION:Santa at the Depot\n2260 West St\, Germantown\, TN 38138\n\nA little elf confirmed the big news! Santa Claus is making a special stop at the Germantown Train Depot Museum on Saturday\, December 20\, from 1 to 4 p.m. Bring the kids to take photos with Santa and drop off their letters in his mailbox.\n\nThe Train Depot Museum\, located at 2260 West Street\, provides a festive backdrop for this family-friendly event. Don’t miss this magical opportunity to share your holiday wishes with Santa.\n\nThis event is presented by the Germantown Historic Commission.\n\nhttps://www.facebook.com/events/1432463691157485
URL:https://bluesbackroads.com/event/santa-at-the-germantown-depot/
LOCATION:Germantown Depot\, 2260 West St\, Germantown\, TN\, 38138\, United States
ATTACH;FMTTYPE=image/png:https://bluesbackroads.com/wp-content/uploads/549153088_1193022026200575_5901311050348966011_n.png
END:VEVENT
END:VCALENDAR