BEGIN:VCALENDAR
VERSION:2.0
PRODID:-//Blues Backroads - ECPv6.15.20//NONSGML v1.0//EN
CALSCALE:GREGORIAN
METHOD:PUBLISH
X-ORIGINAL-URL:https://bluesbackroads.com
X-WR-CALDESC:Events for Blues Backroads
REFRESH-INTERVAL;VALUE=DURATION:PT1H
X-Robots-Tag:noindex
X-PUBLISHED-TTL:PT1H
BEGIN:VTIMEZONE
TZID:America/Chicago
BEGIN:DAYLIGHT
TZOFFSETFROM:-0600
TZOFFSETTO:-0500
TZNAME:CDT
DTSTART:20240310T080000
END:DAYLIGHT
BEGIN:STANDARD
TZOFFSETFROM:-0500
TZOFFSETTO:-0600
TZNAME:CST
DTSTART:20241103T070000
END:STANDARD
BEGIN:DAYLIGHT
TZOFFSETFROM:-0600
TZOFFSETTO:-0500
TZNAME:CDT
DTSTART:20250309T080000
END:DAYLIGHT
BEGIN:STANDARD
TZOFFSETFROM:-0500
TZOFFSETTO:-0600
TZNAME:CST
DTSTART:20251102T070000
END:STANDARD
BEGIN:DAYLIGHT
TZOFFSETFROM:-0600
TZOFFSETTO:-0500
TZNAME:CDT
DTSTART:20260308T080000
END:DAYLIGHT
BEGIN:STANDARD
TZOFFSETFROM:-0500
TZOFFSETTO:-0600
TZNAME:CST
DTSTART:20261101T070000
END:STANDARD
END:VTIMEZONE
BEGIN:VEVENT
DTSTART;TZID=America/Chicago:20251122T080000
DTEND;TZID=America/Chicago:20251122T130000
DTSTAMP:20260420T080352
CREATED:20251103T172412Z
LAST-MODIFIED:20251103T172412Z
UID:10000065-1763798400-1763816400@bluesbackroads.com
SUMMARY:Somerville's Merry Makers Market
DESCRIPTION:Somerville’s Merry Makers Market\n\nTons of great artisan vendors\, crafts\, and homemade foods! A great opportunity to get Christmas shopping done with unique handmade gifts! We will have tons of fun stuff for the kids\, so bring the whole family!\n\n17745 E Fayette St\, Somerville\, TN 38068
URL:https://bluesbackroads.com/event/somervilles-merry-makers-market/
LOCATION:Somerville Farmer’s Market\, 17745 E Fayette St\, Somerville\, TN\, 38068\, United States
ATTACH;FMTTYPE=image/png:https://bluesbackroads.com/wp-content/uploads/Screenshot-2025-11-03-at-11.20.58-AM.png
END:VEVENT
END:VCALENDAR